BEGIN:VCALENDAR
VERSION:2.0
PRODID:-//IBK - ECPv6.15.18//NONSGML v1.0//EN
CALSCALE:GREGORIAN
METHOD:PUBLISH
X-WR-CALNAME:IBK
X-ORIGINAL-URL:https://ibk.be
X-WR-CALDESC:Évènements pour IBK
REFRESH-INTERVAL;VALUE=DURATION:PT1H
X-Robots-Tag:noindex
X-PUBLISHED-TTL:PT1H
BEGIN:VTIMEZONE
TZID:Europe/Brussels
BEGIN:DAYLIGHT
TZOFFSETFROM:+0100
TZOFFSETTO:+0200
TZNAME:CEST
DTSTART:20250330T010000
END:DAYLIGHT
BEGIN:STANDARD
TZOFFSETFROM:+0200
TZOFFSETTO:+0100
TZNAME:CET
DTSTART:20251026T010000
END:STANDARD
BEGIN:DAYLIGHT
TZOFFSETFROM:+0100
TZOFFSETTO:+0200
TZNAME:CEST
DTSTART:20260329T010000
END:DAYLIGHT
BEGIN:STANDARD
TZOFFSETFROM:+0200
TZOFFSETTO:+0100
TZNAME:CET
DTSTART:20261025T010000
END:STANDARD
BEGIN:DAYLIGHT
TZOFFSETFROM:+0100
TZOFFSETTO:+0200
TZNAME:CEST
DTSTART:20270328T010000
END:DAYLIGHT
BEGIN:STANDARD
TZOFFSETFROM:+0200
TZOFFSETTO:+0100
TZNAME:CET
DTSTART:20271031T010000
END:STANDARD
END:VTIMEZONE
BEGIN:VEVENT
DTSTART;TZID=Europe/Brussels:20260604T093000
DTEND;TZID=Europe/Brussels:20260607T180000
DTSTAMP:20260425T180610
CREATED:20220110T082931Z
LAST-MODIFIED:20260206T092904Z
UID:10001745-1780565400-1780855200@ibk.be
SUMMARY:Core Kinesiology 4 - Spa
DESCRIPTION:
URL:https://ibk.be/evenement/core-kinesiology-4-cek-oyat/
LOCATION:Cek-oyat\, Rue neuve 40\, Herve\, 4650\, Belgique
CATEGORIES:Core Kinesiology 4
ATTACH;FMTTYPE=image/jpeg:https://ibk.be/wp-content/uploads/2022/01/CK.jpg
END:VEVENT
END:VCALENDAR