BEGIN:VCALENDAR
VERSION:2.0
PRODID:-//IBK - ECPv6.15.18//NONSGML v1.0//EN
CALSCALE:GREGORIAN
METHOD:PUBLISH
X-ORIGINAL-URL:https://ibk.be
X-WR-CALDESC:Évènements pour IBK
REFRESH-INTERVAL;VALUE=DURATION:PT1H
X-Robots-Tag:noindex
X-PUBLISHED-TTL:PT1H
BEGIN:VTIMEZONE
TZID:Europe/Brussels
BEGIN:DAYLIGHT
TZOFFSETFROM:+0100
TZOFFSETTO:+0200
TZNAME:CEST
DTSTART:20230326T010000
END:DAYLIGHT
BEGIN:STANDARD
TZOFFSETFROM:+0200
TZOFFSETTO:+0100
TZNAME:CET
DTSTART:20231029T010000
END:STANDARD
BEGIN:DAYLIGHT
TZOFFSETFROM:+0100
TZOFFSETTO:+0200
TZNAME:CEST
DTSTART:20240331T010000
END:DAYLIGHT
BEGIN:STANDARD
TZOFFSETFROM:+0200
TZOFFSETTO:+0100
TZNAME:CET
DTSTART:20241027T010000
END:STANDARD
BEGIN:DAYLIGHT
TZOFFSETFROM:+0100
TZOFFSETTO:+0200
TZNAME:CEST
DTSTART:20250330T010000
END:DAYLIGHT
BEGIN:STANDARD
TZOFFSETFROM:+0200
TZOFFSETTO:+0100
TZNAME:CET
DTSTART:20251026T010000
END:STANDARD
BEGIN:DAYLIGHT
TZOFFSETFROM:+0100
TZOFFSETTO:+0200
TZNAME:CEST
DTSTART:20260329T010000
END:DAYLIGHT
BEGIN:STANDARD
TZOFFSETFROM:+0200
TZOFFSETTO:+0100
TZNAME:CET
DTSTART:20261025T010000
END:STANDARD
END:VTIMEZONE
BEGIN:VEVENT
DTSTART;TZID=Europe/Brussels:20250623T090000
DTEND;TZID=Europe/Brussels:20250623T170000
DTSTAMP:20260423T104653
CREATED:20220719T103715Z
LAST-MODIFIED:20241211T102718Z
UID:10001908-1750669200-1750698000@ibk.be
SUMMARY:Relecture des études de cas (kinésio)
DESCRIPTION:Les études de cas dans le cadre des examens finaux doivent être : \n\ncommencées au plus tard 6 mois avant la date de votre examen (maximum 1 séance d’étude cas avant le cours de CE 3)\net terminées au plus tard 3 mois avant la date de votre examen. \n\nPrix : \n– 100 EUR pour la relecture d’1 étude de cas (càd 4 séances)\n– 200 EUR pour la relecture de 2 études de cas (càd 2 fois 4 séances)
URL:https://ibk.be/evenement/relecture-des-etudes-de-cas-3/
LOCATION:Online\, Belgique
CATEGORIES:Examens Finaux/Mémoires
END:VEVENT
BEGIN:VEVENT
DTSTART;TZID=Europe/Brussels:20250618T090000
DTEND;TZID=Europe/Brussels:20250618T170000
DTSTAMP:20260423T104653
CREATED:20220719T103715Z
LAST-MODIFIED:20241211T102710Z
UID:10001906-1750237200-1750266000@ibk.be
SUMMARY:Relecture des études de cas (kinésio)
DESCRIPTION:Les études de cas dans le cadre des examens finaux doivent être : \n\ncommencées au plus tard 6 mois avant la date de votre examen (maximum 1 séance d’étude cas avant le cours de CE 3)\net terminées au plus tard 3 mois avant la date de votre examen. \n\nPrix : \n– 100 EUR pour la relecture d’1 étude de cas (càd 4 séances)\n– 200 EUR pour la relecture de 2 études de cas (càd 2 fois 4 séances)
URL:https://ibk.be/evenement/relecture-des-etudes-de-cas/
LOCATION:Online\, Belgique
CATEGORIES:Examens Finaux/Mémoires
END:VEVENT
BEGIN:VEVENT
DTSTART;TZID=Europe/Brussels:20250617T170000
DTEND;TZID=Europe/Brussels:20250617T190000
DTSTAMP:20260423T104653
CREATED:20210824T082850Z
LAST-MODIFIED:20240924T095427Z
UID:10001429-1750179600-1750186800@ibk.be
SUMMARY:Supervision EFT 2 - Online
DESCRIPTION:[vc_row][vc_column][vc_column_text][/vc_column_text][/vc_column][/vc_row]
URL:https://ibk.be/evenement/supervision-eft-2-online-11/
LOCATION:Online\, Belgique
CATEGORIES:Supervision en EFT
END:VEVENT
BEGIN:VEVENT
DTSTART;TZID=Europe/Brussels:20250610T180000
DTEND;TZID=Europe/Brussels:20250610T200000
DTSTAMP:20260423T104653
CREATED:20210624T062557Z
LAST-MODIFIED:20240510T082658Z
UID:10001559-1749578400-1749585600@ibk.be
SUMMARY:Atelier Pratique d'EFT 2 - Online
DESCRIPTION:[vc_row][vc_column][vc_column_text][/vc_column_text][/vc_column][/vc_row]
URL:https://ibk.be/evenement/atelier-pratique-deft-2-online-5/
LOCATION:Online\, Belgique
CATEGORIES:Atelier Pratique d'EFT 2 - Online
END:VEVENT
BEGIN:VEVENT
DTSTART;TZID=Europe/Brussels:20250602T090000
DTEND;TZID=Europe/Brussels:20250602T170000
DTSTAMP:20260423T104653
CREATED:20220719T103715Z
LAST-MODIFIED:20251120T104319Z
UID:10001911-1748854800-1748883600@ibk.be
SUMMARY:Relecture des études de cas (EFT)
DESCRIPTION:Le prix est de 100EUR pour la relecture de 4 études de cas.
URL:https://ibk.be/evenement/relecture-des-etudes-de-cas-en-eft-2/
LOCATION:Online\, Belgique
CATEGORIES:Certification en EFT
END:VEVENT
BEGIN:VEVENT
DTSTART;TZID=Europe/Brussels:20250423T180000
DTEND;TZID=Europe/Brussels:20250423T203000
DTSTAMP:20260423T104653
CREATED:20220317T104631Z
LAST-MODIFIED:20251125T134030Z
UID:10001833-1745431200-1745440200@ibk.be
SUMMARY:PTT de base - Online
DESCRIPTION:Ceci est une des 4 dates d’un même cours commençant le 2/04/2025 et se poursuivant les 9/04\, 16/04 et 23/04/2025 (de 18h00 à 20h30). Merci de veiller à vous inscrire uniquement à la première date. \nLe prix du cours est de 275 EUR pour les personnes habitant en Belgique et France.\nIl est de 295 EUR pour les personnes habitant au Canada et en Suisse (frais d’envoi du manuel inclus).
URL:https://ibk.be/evenement/ptt-de-base-online-2/2025-04-23/
LOCATION:Online\, Belgique
CATEGORIES:PTT de base,Picture Tapping Technique (PTT)
ATTACH;FMTTYPE=image/jpeg:https://ibk.be/wp-content/uploads/2022/03/PTT.jpg
END:VEVENT
BEGIN:VEVENT
DTSTART;TZID=Europe/Brussels:20250415T173000
DTEND;TZID=Europe/Brussels:20250415T203000
DTSTAMP:20260423T104653
CREATED:20211102T082132Z
LAST-MODIFIED:20240418T072757Z
UID:10001481-1744738200-1744749000@ibk.be
SUMMARY:Soirée Q/R Instructeurs SR 1-3 avec W. Topping – Online
DESCRIPTION:
URL:https://ibk.be/evenement/soiree-q-r-instructeurs-sr-1-3-avec-w-topping-online-5/
LOCATION:Online\, Belgique
CATEGORIES:Soirées Q/R Instructeurs SR 1-3 (W. Topping) - Online - Q/A Instructor SR 1-3 online evening
END:VEVENT
BEGIN:VEVENT
DTSTART;TZID=Europe/Brussels:20250403T193000
DTEND;TZID=Europe/Brussels:20250403T213000
DTSTAMP:20260423T104653
CREATED:20220110T080352Z
LAST-MODIFIED:20250225T070319Z
UID:10001739-1743708600-1743715800@ibk.be
SUMMARY:Webinaire interactif
DESCRIPTION:[vc_row][vc_column][vc_column_text css= » »] \nAu programme : \n\nPrésentation de l’IBK et de ses formations spécialisées.\nDécouverte de certains outils pratiques en Kinésiologie et Tapping\, que vous pourrez appliquer dans votre quotidien dès maintenant !\nRencontre avec nos formateurs : une occasion de poser toutes vos questions en direct.\n\n[/vc_column_text][/vc_column][/vc_row]
URL:https://ibk.be/evenement/porte-ouverte-10/
LOCATION:Online\, Belgique
CATEGORIES:Portes Ouvertes
END:VEVENT
BEGIN:VEVENT
DTSTART;TZID=Europe/Brussels:20250312T083000
DTEND;TZID=Europe/Brussels:20250312T100000
DTSTAMP:20260423T104653
CREATED:20250307T101318Z
LAST-MODIFIED:20251120T104411Z
UID:10002060-1741768200-1741773600@ibk.be
SUMMARY:IT – Comment libérer stress et anxiété avec Intention Tapping / IEP – Online
DESCRIPTION:Pour vous inscrire\, il vous suffit de cliquer sur ce lien ==> ZOOM
URL:https://ibk.be/evenement/it-comment-liberer-stress-et-anxiete-avec-intention-tapping-iep-online/
LOCATION:Online\, Belgique
END:VEVENT
BEGIN:VEVENT
DTSTART;TZID=Europe/Brussels:20250218T180000
DTEND;TZID=Europe/Brussels:20250218T200000
DTSTAMP:20260423T104653
CREATED:20220411T095335Z
LAST-MODIFIED:20251120T104320Z
UID:10001610-1739901600-1739908800@ibk.be
SUMMARY:EFT pour les Enfants - Online
DESCRIPTION:
URL:https://ibk.be/evenement/eft-pour-les-enfants-online-4/
LOCATION:Online\, Belgique
CATEGORIES:EFT pour les Enfants - Online
END:VEVENT
BEGIN:VEVENT
DTSTART;TZID=Europe/Brussels:20250130T183000
DTEND;TZID=Europe/Brussels:20250130T213000
DTSTAMP:20260423T104653
CREATED:20220110T084617Z
LAST-MODIFIED:20250128T083208Z
UID:10001504-1738261800-1738272600@ibk.be
SUMMARY:Équilibration par les couleurs - Online
DESCRIPTION:
URL:https://ibk.be/evenement/equilibration-par-les-couleurs-5/
LOCATION:Online\, Belgique
CATEGORIES:Équilibration par les couleurs
END:VEVENT
BEGIN:VEVENT
DTSTART;TZID=Europe/Brussels:20250128T170000
DTEND;TZID=Europe/Brussels:20250128T190000
DTSTAMP:20260423T104653
CREATED:20210824T082850Z
LAST-MODIFIED:20251125T133543Z
UID:10001433-1738083600-1738090800@ibk.be
SUMMARY:Supervision EFT 2 - Online
DESCRIPTION:[vc_row][vc_column][vc_column_text][/vc_column_text][/vc_column][/vc_row]
URL:https://ibk.be/evenement/supervision-eft-2-online/
LOCATION:Online\, Belgique
CATEGORIES:Supervision en EFT
END:VEVENT
BEGIN:VEVENT
DTSTART;TZID=Europe/Brussels:20250106T090000
DTEND;TZID=Europe/Brussels:20250106T170000
DTSTAMP:20260423T104653
CREATED:20220719T103715Z
LAST-MODIFIED:20251125T133543Z
UID:10001910-1736154000-1736182800@ibk.be
SUMMARY:Relecture des études de cas (EFT)
DESCRIPTION:Le prix est de 100EUR pour la relecture de 4 études de cas.
URL:https://ibk.be/evenement/relecture-des-etudes-de-cas-en-eft/
LOCATION:Online\, Belgique
CATEGORIES:Certification en EFT
END:VEVENT
BEGIN:VEVENT
DTSTART;TZID=Europe/Brussels:20241126T180000
DTEND;TZID=Europe/Brussels:20241126T200000
DTSTAMP:20260423T104653
CREATED:20210624T062557Z
LAST-MODIFIED:20251125T133543Z
UID:10001555-1732644000-1732651200@ibk.be
SUMMARY:Atelier Pratique d'EFT 2 - Online
DESCRIPTION:[vc_row][vc_column][vc_column_text][/vc_column_text][/vc_column][/vc_row]
URL:https://ibk.be/evenement/atelier-pratique-deft-2-online-3/
LOCATION:Online\, Belgique
CATEGORIES:Atelier Pratique d'EFT 2 - Online
END:VEVENT
BEGIN:VEVENT
DTSTART;TZID=Europe/Brussels:20241112T170000
DTEND;TZID=Europe/Brussels:20241112T190000
DTSTAMP:20260423T104653
CREATED:20210824T082850Z
LAST-MODIFIED:20251125T133543Z
UID:10001425-1731430800-1731438000@ibk.be
SUMMARY:Supervision EFT 2 - Online
DESCRIPTION:[vc_row][vc_column][vc_column_text][/vc_column_text][/vc_column][/vc_row]
URL:https://ibk.be/evenement/supervision-eft-2-online-9/
LOCATION:Online\, Belgique
CATEGORIES:Supervision en EFT
END:VEVENT
BEGIN:VEVENT
DTSTART;TZID=Europe/Brussels:20241111T173000
DTEND;TZID=Europe/Brussels:20241111T203000
DTSTAMP:20260423T104653
CREATED:20211102T082132Z
LAST-MODIFIED:20240228T084334Z
UID:10001479-1731346200-1731357000@ibk.be
SUMMARY:Soirée Q/R Instructeurs SR 1-3 avec W. Topping – Online
DESCRIPTION:
URL:https://ibk.be/evenement/soiree-q-r-instructeurs-sr-1-3-avec-w-topping-online-4/
LOCATION:Online\, Belgique
CATEGORIES:Soirées Q/R Instructeurs SR 1-3 (W. Topping) - Online - Q/A Instructor SR 1-3 online evening
END:VEVENT
BEGIN:VEVENT
DTSTART;TZID=Europe/Brussels:20241105T190000
DTEND;TZID=Europe/Brussels:20241105T210000
DTSTAMP:20260423T104653
CREATED:20220411T095335Z
LAST-MODIFIED:20251125T133543Z
UID:10001608-1730833200-1730840400@ibk.be
SUMMARY:EFT pour les Enfants - Online
DESCRIPTION:
URL:https://ibk.be/evenement/eft-pour-les-enfants-online-3/
LOCATION:Online\, Belgique
CATEGORIES:EFT pour les Enfants - Online
END:VEVENT
BEGIN:VEVENT
DTSTART;TZID=Europe/Brussels:20241015T180000
DTEND;TZID=Europe/Brussels:20241015T200000
DTSTAMP:20260423T104653
CREATED:20210624T062557Z
LAST-MODIFIED:20251125T133543Z
UID:10001552-1729015200-1729022400@ibk.be
SUMMARY:Atelier Pratique d'EFT 1 - Online
DESCRIPTION:[vc_row][vc_column][vc_column_text][/vc_column_text][/vc_column][/vc_row]
URL:https://ibk.be/evenement/atelier-pratique-deft-1-online-4/
LOCATION:Online\, Belgique
CATEGORIES:Atelier Pratique d'EFT 1 - Online
END:VEVENT
BEGIN:VEVENT
DTSTART;TZID=Europe/Brussels:20240910T190000
DTEND;TZID=Europe/Brussels:20240910T200000
DTSTAMP:20260423T104653
CREATED:20220411T095057Z
LAST-MODIFIED:20251125T133543Z
UID:10001600-1725994800-1725998400@ibk.be
SUMMARY:Intro à l'EFT - Online
DESCRIPTION:
URL:https://ibk.be/evenement/intro-a-left-online-2/
LOCATION:Online\, Belgique
CATEGORIES:Intro à l'EFT
END:VEVENT
BEGIN:VEVENT
DTSTART;TZID=Europe/Brussels:20240703T083000
DTEND;TZID=Europe/Brussels:20240703T103000
DTSTAMP:20260423T104653
CREATED:20221007T084516Z
LAST-MODIFIED:20251120T104413Z
UID:10001939-1719995400-1720002600@ibk.be
SUMMARY:Intention Tapping Niveau 2 – Online avec Steve Wells
DESCRIPTION:[vc_row][vc_column][vc_column_text]La prochaine formation de 16h en français aura lieu en 2024 les 10 Avril\, 17 Avril\, 24 Avril\, 15 Mai\, 22 Mai\, 5 Juin\, 12 Juin\, 26 Juin\, 3 Juillet\, à partir de 8h30 (heure de Bruxelles). \nPour toute information et inscription merci de suivre ce lien : https://intentiontapping.com/french-iep-level-2/[/vc_column_text][/vc_column][/vc_row][vc_row][vc_column][vc_column_text][/vc_column_text][/vc_column][/vc_row]
URL:https://ibk.be/evenement/intention-tapping-niveau-2-online-avec-steve-wells/2024-07-03/
LOCATION:Online\, Belgique
CATEGORIES:Intention Tapping Niveau 2 - Online avec Steve Wells
END:VEVENT
BEGIN:VEVENT
DTSTART;TZID=Europe/Brussels:20240625T180000
DTEND;TZID=Europe/Brussels:20240625T200000
DTSTAMP:20260423T104653
CREATED:20210624T062557Z
LAST-MODIFIED:20251125T133543Z
UID:10001550-1719338400-1719345600@ibk.be
SUMMARY:Atelier Pratique d'EFT 2 - Online
DESCRIPTION:[vc_row][vc_column][vc_column_text][/vc_column_text][/vc_column][/vc_row]
URL:https://ibk.be/evenement/atelier-pratique-deft-2-online-4/
LOCATION:Online\, Belgique
CATEGORIES:Atelier Pratique d'EFT 2 - Online
END:VEVENT
BEGIN:VEVENT
DTSTART;TZID=Europe/Brussels:20240603T170000
DTEND;TZID=Europe/Brussels:20240603T190000
DTSTAMP:20260423T104653
CREATED:20210824T082850Z
LAST-MODIFIED:20251125T133542Z
UID:10001422-1717434000-1717441200@ibk.be
SUMMARY:Supervision EFT 2 - Online
DESCRIPTION:[vc_row][vc_column][vc_column_text][/vc_column_text][/vc_column][/vc_row]
URL:https://ibk.be/evenement/supervision-eft-2-online-8/
LOCATION:Online\, Belgique
CATEGORIES:Supervision en EFT
END:VEVENT
END:VCALENDAR